BEGIN:VCALENDAR
VERSION:2.0
PRODID:-//hacksw/handcal//NONSGML v1.0//EN
BEGIN:VEVENT
UID:6ee21be86feb1025f0d1804529b4dcc4
DTSTAMP:20260422T061442Z

DTSTART:20260414T140000
DTEND:20260414T140000
SUMMARY:Big Catch-Up Case Studies: Lessons from Country Implementation
DESCRIPTION:The Big Catch-Up (BCU) initiative was launched to support countries in identifying and vaccinating children who missed routine immunization during the COVID-19 pandemic. To better understand implementation experiences and operational lessons, several countries have conducted case studies examining different aspects of BCU implementation. UNICEF, in collaboration with Gavi, WHO and partners, invites you to join a webinar to share insights from three selected case studies and reflect on lessons from programme implementation.\nThis session will include:\n• Country presentations highlighting experiences implementing BCU activities (Ethiopia, Kyrgyzstan, Mozambique)\n• Reflections on operational approaches used to reach zero-dose and under-immunized children \n• Discussion of lessons related to programme coordination, service delivery adaptations, and digital health systems\n• Interactive Q&amp;A and discussion\nBy the end of the session, participants will:\n✔ Understand how countries implemented BCU activities in different operational contexts\n✔ Learn practical approaches used to identify and reach missed children\n✔ Explore lessons related to programme coordination, service delivery, and monitoring systems\n✔ Reflect on implications for strengthening routine immunization recovery efforts\n \nRegister here: https://unicef.zoom.us/webinar/register/WN_xHnrFdtRTDKRk2qGyLC3pQ#/registration

X-ALT-DESC;FMTTYPE=text/html:<!DOCTYPE HTML PUBLIC "-//W3C//DTD HTML 3.2//EN">\n<HTML>\n<HEAD>\n<META NAME="Generator" CONTENT="MS Exchange Server version 08.00.0681.000">\n<TITLE></TITLE>\n</HEAD>\n<BODY>\n<!-- Converted from text/rtf format -->\n\n<p>The Big Catch-Up (BCU) initiative was launched to support countries in identifying and vaccinating children who missed routine immunization during the COVID-19 pandemic. To better understand implementation experiences and operational lessons, several countries have conducted case studies examining different aspects of BCU implementation. UNICEF, in collaboration with Gavi, WHO and partners, invites you to join a webinar to share insights from three selected case studies and reflect on lessons from programme implementation.</p><br /><p>This session will include:</p><br /><p>• Country presentations highlighting experiences implementing BCU activities (Ethiopia, Kyrgyzstan, Mozambique)</p><br /><p>• Reflections on operational approaches used to reach zero-dose and under-immunized children </p><br /><p>• Discussion of lessons related to programme coordination, service delivery adaptations, and digital health systems</p><br /><p>• Interactive Q&amp;A and discussion</p><br /><p>By the end of the session, participants will:</p><br /><p>✔ Understand how countries implemented BCU activities in different operational contexts</p><br /><p>✔ Learn practical approaches used to identify and reach missed children</p><br /><p>✔ Explore lessons related to programme coordination, service delivery, and monitoring systems</p><br /><p>✔ Reflect on implications for strengthening routine immunization recovery efforts</p><br /><p> </p><br /><p>Register here: <a href="https://unicef.zoom.us/webinar/register/WN_xHnrFdtRTDKRk2qGyLC3pQ#/registration">https://unicef.zoom.us/webinar/register/WN_xHnrFdtRTDKRk2qGyLC3pQ#/registration</a></p>\n\n</BODY>\n</HTML>

LOCATION:
END:VEVENT

END:VCALENDAR
