BEGIN:VCALENDAR
VERSION:2.0
PRODID:-//hacksw/handcal//NONSGML v1.0//EN
BEGIN:VEVENT
UID:d8936ab4d844893be0358d27a8019926
DTSTAMP:20260422T015438Z

DTSTART:20260505T130000
DTEND:20260505T130000
SUMMARY:Launch of WHO Guidance on Using Modelling for Immunization Decision-Making
DESCRIPTION:This webinar will introduce the newly released WHO guidance for using modelling for immunization decision-making. Designed to support NITAGs, RITAGs, EPI managers, and partners, the guidance helps stakeholders understand and apply modelling to inform immunization decisions.\nThe session will highlight key recommendations, practical applications across diverse contexts, and perspectives from global, regional, and national experts on how modelling can strengthen evidence-informed immunization policies and decision-making.\n\nThis webinar will be conducted in English, with French, Spanish and Arabic interpretation.\nAccess the guidance: https://iris.who.int/handle/10665/385083

X-ALT-DESC;FMTTYPE=text/html:<!DOCTYPE HTML PUBLIC "-//W3C//DTD HTML 3.2//EN">\n<HTML>\n<HEAD>\n<META NAME="Generator" CONTENT="MS Exchange Server version 08.00.0681.000">\n<TITLE></TITLE>\n</HEAD>\n<BODY>\n<!-- Converted from text/rtf format -->\n\n<p>This webinar will introduce the newly released WHO guidance for using modelling for immunization decision-making. Designed to support NITAGs, RITAGs, EPI managers, and partners, the guidance helps stakeholders understand and apply modelling to inform immunization decisions.</p><br /><p>The session will highlight key recommendations, practical applications across diverse contexts, and perspectives from global, regional, and national experts on how modelling can strengthen evidence-informed immunization policies and decision-making.<br /><br />This webinar will be conducted in English, with French, Spanish and Arabic interpretation.</p><br /><p>Access the guidance: <a href="https://iris.who.int/handle/10665/385083" target="_blank" rel="noopener">https://iris.who.int/handle/10665/385083</a></p>\n\n</BODY>\n</HTML>

LOCATION:
END:VEVENT

END:VCALENDAR
