BEGIN:VCALENDAR
VERSION:2.0
PRODID:-//hacksw/handcal//NONSGML v1.0//EN
BEGIN:VEVENT
UID:49b94323cbe3edead38856b83a0eb416
DTSTAMP:20260422T015701Z

DTSTART:20260428T140000
DTEND:20260428T153000
SUMMARY:Global Polio Eradication Initiative Webinar - Launch of updated Outbreak Response SOPs
DESCRIPTION:As the world moves closer to polio eradication, stopping outbreaks quickly and decisively has never been more important. To reflect evolving epidemiology, new scientific evidence and years of operational experience, the Global Polio Eradication Initiative (GPEI) has updated its Outbreak Response Standard Operating Procedures (SOPs). \nThe updated SOPs sharpen how countries detect, assess and respond to polio outbreaks. They introduce clearer outbreak definitions, stronger risk assessment, and more tailored response strategies, helping programmes close immunity gaps faster and prevent outbreaks from becoming prolonged.\n\nAt the heart of the updated guidance is a simple goal: protect children more rapidly and interrupt transmission more reliably, even in the most challenging settings. \n\nWhat:\nUpdated Polio Outbreak Response SOPs launch webinar Zoom link: https://who.zoom.us/j/97374306254\n\nWhen:\n• Tuesday 28 April 2026, 14.00-15.30hrs Central European Time (CET) \n\nWho:\n• Moderator: Ms Sheeba Afghani, Senior Manager Social and Behaviour Change Polio, UNICEF\n• Opening: Dr Steven Lauwerier, Director for Polio Eradication, UNICEF; and, Chair of GPEI \nStrategy Committee (SC)\n• Presentations (30 minutes):\no Dr Stephanie Kovacs, Team Lead for Surveillance Innovation and Research, CDC\no Dr Corey Peak, Senior Officer, Modeling &amp; Analytics, Polio, Global Development, Gates Foundation\n• Open Q&amp;A with panelists (45 minutes):\no Dr Karim Djibaoui, Team Leader, Polio Outbreak Response, WHO\no Ms Tsedeye Girma, Senior Manager, Polio Outbreak Response, UNICEF \no Dr Mohamed Gedi, Programme Coordinator, Polio Eradication, WHO’s African Regional Office (AFRO)

X-ALT-DESC;FMTTYPE=text/html:<!DOCTYPE HTML PUBLIC "-//W3C//DTD HTML 3.2//EN">\n<HTML>\n<HEAD>\n<META NAME="Generator" CONTENT="MS Exchange Server version 08.00.0681.000">\n<TITLE></TITLE>\n</HEAD>\n<BODY>\n<!-- Converted from text/rtf format -->\n\n<p>As the world moves closer to polio eradication, stopping outbreaks quickly and decisively has never been more important. To reflect evolving epidemiology, new scientific evidence and years of operational experience, the Global Polio Eradication Initiative (GPEI) has updated its <a href="https://polioeradication.org/wp-content/uploads/2026/04/Standard-Operating-Procedures-for-responding-to-a-poliovirus-event-or-outbreak-V.5-Pre-publication.pdf">Outbreak Response Standard Operating Procedures (SOPs)</a>. </p><br /><p>The updated SOPs sharpen how countries detect, assess and respond to polio outbreaks. They introduce clearer outbreak definitions, stronger risk assessment, and more tailored response strategies, helping programmes close immunity gaps faster and prevent outbreaks from becoming prolonged.<br /><br />At the heart of the updated guidance is a simple goal: protect children more rapidly and interrupt transmission more reliably, even in the most challenging settings. <br /><br /><strong>What:</strong><br />Updated Polio Outbreak Response SOPs launch webinar Zoom link: <a href="https://who.zoom.us/j/97374306254">https://who.zoom.us/j/97374306254</a><br /><br /><strong>When:</strong><br />• Tuesday 28 April 2026, 14.00-15.30hrs Central European Time (CET) <br /><br /><strong>Who:</strong><br />• Moderator: Ms Sheeba Afghani, Senior Manager Social and Behaviour Change Polio, UNICEF<br />• Opening: Dr Steven Lauwerier, Director for Polio Eradication, UNICEF; and, Chair of GPEI <br />Strategy Committee (SC)<br />• Presentations (30 minutes):<br />o Dr Stephanie Kovacs, Team Lead for Surveillance Innovation and Research, CDC<br />o Dr Corey Peak, Senior Officer, Modeling &amp; Analytics, Polio, Global Development, Gates Foundation<br />• Open Q&amp;A with panelists (45 minutes):<br />o Dr Karim Djibaoui, Team Leader, Polio Outbreak Response, WHO<br />o Ms Tsedeye Girma, Senior Manager, Polio Outbreak Response, UNICEF <br />o Dr Mohamed Gedi, Programme Coordinator, Polio Eradication, WHO’s African Regional Office (AFRO)</p>\n\n</BODY>\n</HTML>

LOCATION:
END:VEVENT

END:VCALENDAR
