BEGIN:VCALENDAR
VERSION:2.0
PRODID:-//hacksw/handcal//NONSGML v1.0//EN
BEGIN:VEVENT
UID:b8e18ed434f84ed0b381acc283a2131a
DTSTAMP:20260422T015544Z

DTSTART:20260430T130000
DTEND:20260430T140000
SUMMARY:State of inequality in childhood immunization
DESCRIPTION:Sizeable between- and within-country inequalities in childhood immunization impair progress towards universal coverage of all persons with essential life-saving vaccines. Monitoring global trends in immunization inequalities helps to identify population subgroups that are less likely to benefit from vaccines and provides evidence for tracking progress on regional and global goals and informing equity-oriented interventions. \nOver the past decade, WHO has produced a series of global analyses of inequalities in immunization, including a global report on the state of inequality in childhood immunization, published in 2016. A decade later, a recent article published in Vaccines provides a comprehensive global update on the state of within-country inequality in childhood immunization. State of inequality in childhood immunization: monitoring progress across low- and middle-income countries over the past decade assesses the latest situation of inequality and the change in inequality over time across up to 92 countries, areas and territories, for nine childhood immunization indicators (seven coverage indicators and two indicators of non-receipt of vaccines) by five dimensions of inequality (child sex, mother’s age, mother’s education, household economic status and place of residence). The article is accompanied by interactive visuals. \nThe webinar will feature a presentation of the key findings of the article and a panel discussion by subject matter experts from Gavi, the Vaccine Alliance, UNICEF and WHO.\nRegister here: \nhttps://who.zoom.us/webinar/register/WN_L31PvPuUTQS5c4OGGdLwUA#/registration\n\n\n\n\n\n\n\n\n\n\nAgenda \n\nOpening remarks - Alain Labrique, Director, Data, Digital Health, Analytics and AI, WHO  \nPresentation of key findings - Anne Schlotheuber, Technical Officer, Health Inequality Monitoring team, WHO \nPanel discussion – Experts from Gavi, the Vaccine Alliance, UNICEF, and WHO \nClosing remarks - Kate O'Brien, Director, Department of Immunization, Vaccines and Biologicals, WHO\n\nModerator\nDevaki Nambiar, Consultant, Health Inequality Monitoring team, WHO\n\n\n\n\n\n\n\n\n\n

X-ALT-DESC;FMTTYPE=text/html:<!DOCTYPE HTML PUBLIC "-//W3C//DTD HTML 3.2//EN">\n<HTML>\n<HEAD>\n<META NAME="Generator" CONTENT="MS Exchange Server version 08.00.0681.000">\n<TITLE></TITLE>\n</HEAD>\n<BODY>\n<!-- Converted from text/rtf format -->\n\n<p>Sizeable between- and within-country inequalities in childhood immunization impair progress towards universal coverage of all persons with essential life-saving vaccines. Monitoring global trends in immunization inequalities helps to identify population subgroups that are less likely to benefit from vaccines and provides evidence for tracking progress on regional and global goals and informing equity-oriented interventions. </p><br /><p>Over the past decade, WHO has produced a series of global analyses of inequalities in immunization, including a global report on the state of inequality in childhood immunization, published in 2016. A decade later, a recent article published in Vaccines provides a comprehensive global update on the state of within-country inequality in childhood immunization. <a href="https://doi.org/10.3390/vaccines14040296" target="_blank" rel="noopener" data-sf-ec-immutable="" data-sf-marked="">State of inequality in childhood immunization: monitoring progress across low- and middle-income countries over the past decade</a> assesses the latest situation of inequality and the change in inequality over time across up to 92 countries, areas and territories, for nine childhood immunization indicators (seven coverage indicators and two indicators of non-receipt of vaccines) by five dimensions of inequality (child sex, mother’s age, mother’s education, household economic status and place of residence). The article is accompanied by interactive visuals. </p><br /><p>The webinar will feature a presentation of the key findings of the article and a panel discussion by subject matter experts from Gavi, the Vaccine Alliance, UNICEF and WHO.</p><br /><p>Register here: </p><br /><p><a href="https://who.zoom.us/webinar/register/WN_L31PvPuUTQS5c4OGGdLwUA#/registration">https://who.zoom.us/webinar/register/WN_L31PvPuUTQS5c4OGGdLwUA#/registration</a></p><br /><section id="content" class="sf-content content" tabindex="-1" role="main"><br /><div class="row" data-sf-element="Row"><br /><div id="PageContent_TA51A0481001_Col00" class="sf_colsIn col-md-12" data-sf-element="Column 1" data-placeholder-label="Body content"><br /><div id="PageContent_T0643CD2A001_Col00" class="sf_colsIn container" data-sf-element="Container" data-placeholder-label="Container"><br /><div class="row" data-sf-element="Row"><br /><div id="PageContent_T0643CD2A006_Col01" class="sf_colsIn col-md-10" data-sf-element="Column 2" data-placeholder-label="Column 2"><br /><div class="row sf-detail-content" data-sf-element="Row"><br /><div id="PageContent_T0643CD2A003_Col00" class="sf_colsIn col-md-8" data-sf-element="Column 1" data-placeholder-label="Body"><br /><article class="sf-detail-body-wrapper"><br /><div><br /><p><strong>Agenda </strong></p><br /><ul><br /><li><strong>Opening remarks - Alain Labrique</strong>, Director, Data, Digital Health, Analytics and AI, WHO  </li><br /><li><strong>Presentation of key findings - Anne Schlotheuber</strong>, Technical Officer, Health Inequality Monitoring team, WHO </li><br /><li><strong>Panel discussion – Experts from Gavi, the Vaccine Alliance, UNICEF, and WHO</strong> </li><br /><li><strong>Closing remarks - Kate O'Brien</strong>, Director, Department of Immunization, Vaccines and Biologicals, WHO</li><br /></ul><br /><p><strong>Moderator</strong></p><br /><p><strong>Devaki Nambiar</strong>, Consultant, Health Inequality Monitoring team, WHO</p><br /></div><br /></article><br /></div><br /></div><br /></div><br /></div><br /></div><br /></div><br /></div><br /></section>\n\n</BODY>\n</HTML>

LOCATION:
END:VEVENT

END:VCALENDAR
