BEGIN:VCALENDAR
VERSION:2.0
PRODID:-//hacksw/handcal//NONSGML v1.0//EN
BEGIN:VEVENT
UID:4a30f0f42ad3eb2c6bdbeb7042ece82d
DTSTAMP:20260422T114350Z

DTSTART:20260420T200000
DTEND:20260420T210000
SUMMARY:A Lifetime of Protection: The Impact of Vaccination Across the Life Course
DESCRIPTION:As part of World Immunization Week 2026, the International Vaccine Access Center (IVAC) at the Johns Hopkins Bloomberg School of Public Health is bringing together a distinguished panel of experts to explore strategies and approaches to increase vaccination coverage and access across the life course, from infants and young children to adolescents, pregnant women, and adults. The webinar will conclude with a moderated Q&amp;A session to answer participant questions.\nRegister here: https://jh.zoom.us/webinar/register/WN_Iid9CP8QSuqRkwjWGladOg#/registration

X-ALT-DESC;FMTTYPE=text/html:<!DOCTYPE HTML PUBLIC "-//W3C//DTD HTML 3.2//EN">\n<HTML>\n<HEAD>\n<META NAME="Generator" CONTENT="MS Exchange Server version 08.00.0681.000">\n<TITLE></TITLE>\n</HEAD>\n<BODY>\n<!-- Converted from text/rtf format -->\n\n<p>As part of World Immunization Week 2026, the International Vaccine Access Center (IVAC) at the Johns Hopkins Bloomberg School of Public Health is bringing together a distinguished panel of experts to explore strategies and approaches to increase vaccination coverage and access across the life course, from infants and young children to adolescents, pregnant women, and adults. The webinar will conclude with a moderated Q&amp;A session to answer participant questions.</p><br /><p>Register here: <a href="https://jh.zoom.us/webinar/register/WN_Iid9CP8QSuqRkwjWGladOg#/registration">https://jh.zoom.us/webinar/register/WN_Iid9CP8QSuqRkwjWGladOg#/registration</a></p>\n\n</BODY>\n</HTML>

LOCATION:
END:VEVENT

END:VCALENDAR
