BEGIN:VCALENDAR
VERSION:2.0
PRODID:-//hacksw/handcal//NONSGML v1.0//EN
BEGIN:VEVENT
UID:7ee7ad5af33f5b215a1906a9d4a858b7
DTSTAMP:20260422T103726Z

DTSTART:20260416T130000
DTEND:20260416T141500
SUMMARY:UNICEF Vaccine Procurement Practitioners Network (VPPN) Strategic Vaccine Procurement Series: Webinar 2 - What mitigating strategies can you leverage to prevent commonly-faced supply risks?
DESCRIPTION:Strategic Vaccine Procurement Series: Webinar 2 - What mitigating strategies can you leverage to prevent commonly-faced supply risks?\nLink to register for the webinar\nDear TechNet Colleagues,\nAre you also facing challenges with vaccine supply security and would like to strengthen your preparedness to vaccine stockouts? Our next webinar – the second in our strategic vaccine procurement series, that will take place on Thursday, 16 April, at 1pm GMT+2 – is then for you! The event will allow you to better understand what practical strategies you can leverage to prevent vaccine supply risks, thanks to the experience and lessons learnt that will be shared by government partners from Georgia, Liberia and Canada, who is also our subject-matter expert for the whole series and will build upon what they presented during our last webinar (see Strategic Vaccine Procurement Series resources below).\nMany of you have pointed out that the lack of preparation in case of stockouts is a recurring concern. Reviewing the whole procurement strategy is essential to address this issue, as well as linking together each area of the procurement cycle, instead of considering them as “standalone activities”. When seeing these activities as a continuous process that builds upon each other, countries will be able to identify when the activities need to be completed in order to avoid stockouts, and understand how they all inform and impact each other.\nThe webinar will be held in English, French and Russian and take place on Zoom, on Thursday, 16 April 2026, from 1pm to 2.05pm GMT+2.\nTo take part in it, you need to register here. Please, note that registration is compulsory and that, once registered, you will receive an e-mail confirmation with the link to the webinar.\nDo not hesitate to share any question you have on the subject in the comments below. Our panellists will be happy to answer you during the event or on the platform.\nAll relevant details on this webinar and the whole series are available below.\nTo gain access to all VPPN resources, please feel free to join the VPPN if you are a vaccine procurement professional. To do so, go to the VPPN group, and click join. Your request will be reviewed before approval. If you would like to invite someone who is not a TechNet member to join the VPPN, please send them to the TechNet registration page, where they will need to click on VPPN at the bottom of the page.\nAs usual, we are looking forward to seeing you at this event. And in the meantime, you can contact me, through the platform or by email at dschuwey@unicef.org, for any question or request you might have.\nKind regards,\nDyuti\n*****\nRegistration\nLink to register for the webinar\n \nDate &amp; Time\nThursday, 16 April 2026, 1pm GMT+2 to 2:05pm GMT+2\n \nObjectives\n\nShare countries’ risk analysis assessment and how they identify key risks in the procurement process and mitigation measures\nHighlight the main challenges faced with stock management and how these are impacted by forecasting, planning and budgeting\nProvide peer-to-peer learning and triangular cooperation to support countries in accessing quality-assured vaccines\nAnswer questions on the topic\n\nSpeakers\nSubject-matter expert:\n\nJacqueline Kosche, Director, Public Health Agency of Canada\nKurt Young, Manager, Public Services and Procurement Canada\n\nGeorgia:\n\nVladimer Getia, Head of State Public Health Programs and Regional Management Department, Georgian National Center for Disease Control and Public Health\n\nLiberia:\n\nAdolphus Trokon Clarke, Programme Manager, Expanded Programme on Immunisation, Ministry of Health\n\nModerator:\n\nLilia Velinova-de Boever, Contracts Specialist, Vaccine Centre, UNICEF\n\nAgenda\n1:00pm GMT+2        Welcome and introduction of the topic\n1:03pm GMT+2        Subject-matter expert’s presentation\n1:18pm GMT+2        Senegal's presentation\n1:33pm GMT+2        Turkmenistan's presentation\n1:48pm GMT+2        Questions &amp; Answers\n2:03pm GMT+2        Closing remarks\n2:05pm GMT+2        End &amp; Further E-discussion on the VPPN\nResources for the Strategic Vaccine Procurement Series\n\nFirst webinar recording – How to better tie in planning, forecasting and budgeting within the procurement timeline?\nFirst webinar presentation in English, French and Russian\nQ&amp;A SERIES - Strategic Vaccine Procurement - Discussion with Senegal and Turkmenistan\n\nFollowing event in the Strategic Vaccine Procurement Series\nQ2 2026: Webinar 3\nHow do legal and regulatory functions impact the procurement process?

X-ALT-DESC;FMTTYPE=text/html:<!DOCTYPE HTML PUBLIC "-//W3C//DTD HTML 3.2//EN">\n<HTML>\n<HEAD>\n<META NAME="Generator" CONTENT="MS Exchange Server version 08.00.0681.000">\n<TITLE></TITLE>\n</HEAD>\n<BODY>\n<!-- Converted from text/rtf format -->\n\n<p><strong>Strategic Vaccine Procurement Series: Webinar 2 - What mitigating strategies can you leverage to prevent commonly-faced supply risks?</strong></p><br /><p><strong><a href="https://unicef.zoom.us/webinar/register/WN_flE3EzMYT42Kajrk47RdsA">Link to register for the webinar</a></strong></p><br /><p><strong>Dear TechNet Colleagues,</strong></p><br /><p>Are you also facing challenges with vaccine supply security and would like to strengthen your preparedness to vaccine stockouts? Our <strong>next webinar</strong> – the second in our strategic vaccine procurement series, that will take place on <strong>Thursday, 16 April, at 1pm GMT+2</strong> – is then for you! The event will allow you to better understand <strong>what practical strategies you can leverage to prevent vaccine supply risks</strong>, thanks to the <strong>experience and lessons learnt</strong> that will be <strong>shared by government partners from Georgia, Liberia and Canada</strong>, who is also our subject-matter expert for the whole series and will build upon what they presented during our last webinar (see Strategic Vaccine Procurement Series resources below).</p><br /><p>Many of you have pointed out that the <strong>lack of preparation in case of stockouts</strong> is a recurring concern. <strong>Reviewing the whole procurement strategy</strong> is essential to address this issue, as well as linking together each area of the procurement cycle, instead of considering them as “standalone activities”. When seeing these activities as a continuous process that builds upon each other, countries will be able to identify when the activities need to be completed in order to avoid stockouts, and understand how they all inform and impact each other.</p><br /><p>The webinar will be held in <strong>English, French and Russian</strong> and take place on <strong>Zoom</strong>, on Thursday, 16 April 2026, from 1pm to 2.05pm GMT+2.<br />To take part in it, you need to <a href="https://unicef.zoom.us/webinar/register/WN_flE3EzMYT42Kajrk47RdsA"><strong>register here</strong></a>. Please, note that registration is compulsory and that, once registered, you will receive an e-mail confirmation with the link to the webinar.</p><br /><p>Do not hesitate to <strong>share any question you have on the subject in the comments below</strong>. Our panellists will be happy to answer you during the event or on the platform.</p><br /><p>All relevant details on this webinar and the whole series are available below.</p><br /><p>To gain access to all VPPN resources, please feel free to join the VPPN if you are a vaccine procurement professional. To do so, go to the <a href="en/community/groups/468:vaccine-procurement-practitioners-network" target="_blank" rel="noopener">VPPN group</a>, and click join. Your request will be reviewed before approval. If you would like to invite someone who is not a TechNet member to join the VPPN, please send them to the <a href="en/register" target="_blank" rel="noopener">TechNet registration page</a>, where they will need to click on VPPN at the bottom of the page.</p><br /><p>As usual, we are looking forward to seeing you at this event. And in the meantime, you can contact me, through the platform or by email at dschuwey@unicef.org, for any question or request you might have.</p><br /><p>Kind regards,<br />Dyuti</p><br /><p>*****</p><br /><p><strong>Registration</strong><br /><a href="https://unicef.zoom.us/webinar/register/WN_flE3EzMYT42Kajrk47RdsA">Link to register for the webinar</a><br /> <br /><strong>Date &amp; Time</strong><br />Thursday, 16 April 2026, 1pm GMT+2 to 2:05pm GMT+2<br /> <br /><strong>Objectives</strong></p><br /><ul><br /><li>Share countries’ risk analysis assessment and how they identify key risks in the procurement process and mitigation measures</li><br /><li>Highlight the main challenges faced with stock management and how these are impacted by forecasting, planning and budgeting</li><br /><li>Provide peer-to-peer learning and triangular cooperation to support countries in accessing quality-assured vaccines</li><br /><li>Answer questions on the topic</li><br /></ul><br /><p><strong>Speakers</strong><br /><strong>Subject-matter expert:</strong></p><br /><ul><br /><li>Jacqueline Kosche, Director, Public Health Agency of Canada</li><br /><li>Kurt Young, Manager, Public Services and Procurement Canada</li><br /></ul><br /><p><strong>Georgia:</strong></p><br /><ul><br /><li>Vladimer Getia, Head of State Public Health Programs and Regional Management Department, Georgian National Center for Disease Control and Public Health</li><br /></ul><br /><p><strong>Liberia:</strong></p><br /><ul><br /><li>Adolphus Trokon Clarke, Programme Manager, Expanded Programme on Immunisation, Ministry of Health</li><br /></ul><br /><p><strong>Moderator:</strong></p><br /><ul><br /><li>Lilia Velinova-de Boever, Contracts Specialist, Vaccine Centre, UNICEF</li><br /></ul><br /><p><strong>Agenda</strong><br />1:00pm GMT+2        Welcome and introduction of the topic<br />1:03pm GMT+2        Subject-matter expert’s presentation<br />1:18pm GMT+2        Senegal's presentation<br />1:33pm GMT+2        Turkmenistan's presentation<br />1:48pm GMT+2        Questions &amp; Answers<br />2:03pm GMT+2        Closing remarks<br />2:05pm GMT+2        End &amp; Further E-discussion on the VPPN</p><br /><p><strong>Resources for the Strategic Vaccine Procurement Series</strong></p><br /><ul><br /><li><a href="https://www.youtube.com/watch?v=HSq7yTd7F3I">First webinar recording – How to better tie in planning, forecasting and budgeting within the procurement timeline?</a></li><br /><li>First webinar presentation in <a href="media/com_groupresources/uploads/468/SVP1_Webinar_Presentation_05-02-2026_EN.pdf">English</a>, <a href="media/com_groupresources/uploads/468/SVP1_Webinar_Presentation_30-01-2026_FR.pdf">French </a>and <a href="media/com_groupresources/uploads/468/SVP1_Webinar_Presentation_30-01-2026_RU.pdf">Russian</a></li><br /><li><a href="media/com_groupresources/uploads/468/QnA%20Series_SVP1_12-02-2026.pdf">Q&amp;A SERIES - Strategic Vaccine Procurement - Discussion with Senegal and Turkmenistan</a></li><br /></ul><br /><p><strong>Following event in the Strategic Vaccine Procurement Series</strong></p><br /><p><strong>Q2 2026: Webinar 3</strong><br />How do legal and regulatory functions impact the procurement process?</p>\n\n</BODY>\n</HTML>

LOCATION:
END:VEVENT

END:VCALENDAR
