BEGIN:VCALENDAR
VERSION:2.0
PRODID:-//hacksw/handcal//NONSGML v1.0//EN
BEGIN:VEVENT
UID:c66b6aa8ecc434d69091fba0672d8f8b
DTSTAMP:20260422T103729Z

DTSTART:20260415T143000
DTEND:20260415T143000
SUMMARY:Malaria vaccines: Practical approaches to collaboration between malaria and immunization programs
DESCRIPTION:In advance of World Malaria Day, Ministry officials from Ghana and Nigeria will discuss opportunities for collaboration between country malaria and immunization programs on malaria vaccine implementation. Speakers will share real-world examples, highlighting what’s worked, overcoming challenges, and lessons learned to date.\nSpeakers:\n• Dr. Nnenna Ogbulafor, National Coordinator of National Malaria Elimination Program, Nigeria\n• Dr. Naziru Tanko Mohammed, Deputy EPI Manager, Ghana Moderators:\n• Rose Zulliger, Director of Services and Innovation, Malaria Consortium\n• Welcome by John Bawa, Global Technical Director – Malaria Vaccines, PATH

X-ALT-DESC;FMTTYPE=text/html:<!DOCTYPE HTML PUBLIC "-//W3C//DTD HTML 3.2//EN">\n<HTML>\n<HEAD>\n<META NAME="Generator" CONTENT="MS Exchange Server version 08.00.0681.000">\n<TITLE></TITLE>\n</HEAD>\n<BODY>\n<!-- Converted from text/rtf format -->\n\n<p>In advance of World Malaria Day, Ministry officials from Ghana and Nigeria will discuss opportunities for collaboration between country malaria and immunization programs on malaria vaccine implementation. Speakers will share real-world examples, highlighting what’s worked, overcoming challenges, and lessons learned to date.</p><br /><p>Speakers:</p><br /><p>• Dr. Nnenna Ogbulafor, National Coordinator of National Malaria Elimination Program, Nigeria</p><br /><p>• Dr. Naziru Tanko Mohammed, Deputy EPI Manager, Ghana Moderators:</p><br /><p>• Rose Zulliger, Director of Services and Innovation, Malaria Consortium</p><br /><p>• Welcome by John Bawa, Global Technical Director – Malaria Vaccines, PATH</p>\n\n</BODY>\n</HTML>

LOCATION:
END:VEVENT

END:VCALENDAR
