BEGIN:VCALENDAR
VERSION:2.0
PRODID:-//hacksw/handcal//NONSGML v1.0//EN
BEGIN:VEVENT
UID:33188ccfc33d3f551939e8bc233a06c5
DTSTAMP:20260424T083631Z

DTSTART:20260205T100000
DTEND:20260205T100000
SUMMARY:Integrated Disease Surveillance and Response (IDSR) Implementation Updates in WHO AFRO Member States
DESCRIPTION:Registration Link (Zoom meeting):\nhttps://echo.zoom.us/webinar/register/WN_1WClse7mSlSQuj-skZJvZg\nPlease sign in to Zoom using the ECHO naming style or rename after joining the session -Your Full Name, Name of your Organization, Your City/State.

X-ALT-DESC;FMTTYPE=text/html:<!DOCTYPE HTML PUBLIC "-//W3C//DTD HTML 3.2//EN">\n<HTML>\n<HEAD>\n<META NAME="Generator" CONTENT="MS Exchange Server version 08.00.0681.000">\n<TITLE></TITLE>\n</HEAD>\n<BODY>\n<!-- Converted from text/rtf format -->\n\n<p><strong data-olk-copy-source="MessageBody">Registration Link (Zoom meeting):</strong></p><br /><p><a title="https://echo.zoom.us/webinar/register/WN_1WClse7mSlSQuj-skZJvZg" href="https://echo.zoom.us/webinar/register/WN_1WClse7mSlSQuj-skZJvZg" target="_blank" rel="noopener noreferrer" data-auth="NotApplicable" data-linkindex="3">https://echo.zoom.us/webinar/register/WN_1WClse7mSlSQuj-skZJvZg</a></p><br /><p>Please sign in to Zoom using the ECHO naming style or rename after joining the session -<strong>Your Full Name, Name of your Organization, Your City/State.</strong></p>\n\n</BODY>\n</HTML>

LOCATION:
END:VEVENT

END:VCALENDAR
