BEGIN:VCALENDAR
VERSION:2.0
PRODID:-//hacksw/handcal//NONSGML v1.0//EN
BEGIN:VEVENT
UID:edb4f8d9efb9df2eb4b7dda07399180f
DTSTAMP:20260422T112600Z

DTSTART:20260218T140000
DTEND:20260218T150000
SUMMARY:From last mile to last child: deploying Indigo for zero dose communities
DESCRIPTION:This webinar highlights how the Indigo Cold Chain Vaccine Carrier is expanding immunization access to zero-dose children. The first presentation, led by Global South Health Ventures, introduces the Indigo technology and explains how it maintains vaccine integrity for up to five days even in 43°C environments. The second presentation, led by eHealth Africa, shares on the ground experience and how the Indigo helped health workers reach and immunize more children. The event will conclude with an interactive FAQ session with the panelists.\nThis session will be delivered in English with French interpretation.\nRegistration: https://who.zoom.us/webinar/register/WN_IYWwQ4k_QpyVIPIUIQQNqA 

X-ALT-DESC;FMTTYPE=text/html:<!DOCTYPE HTML PUBLIC "-//W3C//DTD HTML 3.2//EN">\n<HTML>\n<HEAD>\n<META NAME="Generator" CONTENT="MS Exchange Server version 08.00.0681.000">\n<TITLE></TITLE>\n</HEAD>\n<BODY>\n<!-- Converted from text/rtf format -->\n\n<p>This webinar highlights how the Indigo Cold Chain Vaccine Carrier is expanding immunization access to zero-dose children. The first presentation, led by Global South Health Ventures, introduces the Indigo technology and explains how it maintains vaccine integrity for up to five days even in 43°C environments. The second presentation, led by eHealth Africa, shares on the ground experience and how the Indigo helped health workers reach and immunize more children. The event will conclude with an interactive FAQ session with the panelists.</p><br /><p>This session will be delivered in English with French interpretation.</p><br /><p>Registration: <a href="https://who.zoom.us/webinar/register/WN_IYWwQ4k_QpyVIPIUIQQNqA">https://who.zoom.us/webinar/register/WN_IYWwQ4k_QpyVIPIUIQQNqA</a> </p>\n\n</BODY>\n</HTML>

LOCATION:
END:VEVENT

END:VCALENDAR
