BEGIN:VCALENDAR
VERSION:2.0
PRODID:-//hacksw/handcal//NONSGML v1.0//EN
BEGIN:VEVENT
UID:f652982a467c59246b87f753f0610437
DTSTAMP:20260422T113746Z

DTSTART:20260217T130000
DTEND:20260217T141500
SUMMARY:HPV Vaccine Rollout Dialogue Series - Part 3 Countering HPV Misinformation: Evidence, Trust, and Effective Communication
DESCRIPTION:\n\n\n\n\n\n*Please note that simultaneous French interpretation will be available\n\nJoin us for the final session of our Human Papilloma Virus (HPV) Vaccine Rollout Dialogue Series, co-hosted by Sabin's Boost Community and HPV Initiative, and UNICEF on Thursday, February 17 from 12:00 - 1:15 PM GMT (see local time).\nThe session will begin with a global perspective on health misinformation, followed by a country-level case study from Pakistan highlighting practical strategies used to counter misinformation, promote credible information sources, and build community trust. A Boost member from Nepal will share an additional real-world example to further ground the discussion.\nDesigned as a highly interactive and collaborative session, the webinar will prioritize open dialogue, audience Q&amp;A, and peer-to-peer learning, creating space for participants to share experiences and insights from their own contexts.\n\n\n\n\n\n\n\n\n\n\n\n\n\n \n\n\n\n\n\n\n\n\n\n\n\n\n\nWhy Attend? \n\nExplore global trends and drivers of HPV vaccine-related misinformation and their implications for immunization efforts.\nShare practical, context-specific strategies for mitigating misinformation and building trust, with lessons learned from Pakistan and other settings.\nFoster cross-country learning and collaboration by creating space for discussion, Q&amp;A, and participant-led sharing of experiences and solutions.\n\n\n\n\n\n\n\n\n\n\n\n\n\n\nRegister Today!\n\n\n\n\n\n\n\n 

X-ALT-DESC;FMTTYPE=text/html:<!DOCTYPE HTML PUBLIC "-//W3C//DTD HTML 3.2//EN">\n<HTML>\n<HEAD>\n<META NAME="Generator" CONTENT="MS Exchange Server version 08.00.0681.000">\n<TITLE></TITLE>\n</HEAD>\n<BODY>\n<!-- Converted from text/rtf format -->\n\n<table role="presentation" border="0" cellspacing="0" cellpadding="0"><br /><tbody><br /><tr><br /><td><br /><div dir="auto" lang="und" role="article" aria-roledescription="email"><br /><div><br /><p><em>*Please note that simultaneous French interpretation will be available</em><br /><br />Join us for the final session of our<em> </em><strong><em>Human Papilloma Virus (HPV) V</em></strong><strong><em>accine Rollout Dialogue Series</em></strong>, co-hosted by <a title="" href="https://boostcommunity.org/" target="_blank" rel="noopener"><strong>Sabin's Boost Community</strong></a> and <a title="" href="https://www.sabin.org/global-immunization/the-global-hpv-consortium/" target="_blank" rel="noopener"><strong><u>HPV Initiative</u></strong></a>, and <a title="" href="https://www.unicef.org/" target="_blank" rel="noopener"><strong><u>UNICEF</u></strong></a> on <strong>Thursday, February 17 </strong>from <strong>12:00 - 1:15 PM GMT</strong> (<a href="https://time.is/compare/0700AM_17_Feb_2026_in_GMT" target="_blank" rel="noopener"><strong><u>see local time</u></strong></a><a title="" href="https://time.is/compare/0900AM_08_Apr_2025_in_GMT" target="_blank" rel="noopener">)</a>.</p><br /><p>The session will begin with a global perspective on <strong>health misinformation</strong>, followed by a country-level case study from <strong>Pakistan</strong> highlighting practical strategies used to counter misinformation, promote credible information sources, and build community trust. A <a title="" href="https://boostcommunity.org/" target="_blank" rel="noopener"><strong><u>Boost</u></strong></a> member from <strong>Nepal</strong> will share an additional real-world example to further ground the discussion.</p><br /><p>Designed as a highly interactive and collaborative session, the webinar will prioritize open dialogue, audience Q&amp;A, and peer-to-peer learning, creating space for participants to share experiences and insights from their own contexts.</p><br /></div><br /></div><br /></td><br /></tr><br /></tbody><br /></table><br /><table role="presentation" border="0" cellspacing="0" cellpadding="0"><br /><tbody><br /><tr><br /><td align="center"><br /><table role="presentation" border="0" width="600px" cellspacing="0" cellpadding="0" align="center"><br /><tbody><br /><tr><br /><td> </td><br /></tr><br /></tbody><br /></table><br /></td><br /></tr><br /></tbody><br /></table><br /><table role="presentation" border="0" cellspacing="0" cellpadding="0"><br /><tbody><br /><tr><br /><td><br /><div dir="auto" lang="und" role="article" aria-roledescription="email"><br /><div><br /><p><strong>Why Attend?</strong> </p><br /><ol><br /><li><strong>Explore global trends and drivers</strong> of HPV vaccine-related misinformation and their implications for immunization efforts.</li><br /><li><strong>Share practical, context-specific strategies</strong> for mitigating misinformation and building trust, with lessons learned from Pakistan and other settings.</li><br /><li><strong>Foster cross-country learning and collaboration </strong>by creating space for discussion, Q&amp;A, and participant-led sharing of experiences and solutions.</li><br /></ol><br /></div><br /></div><br /></td><br /></tr><br /></tbody><br /></table><br /><table role="presentation" border="0" cellspacing="0" cellpadding="0"><br /><tbody><br /><tr><br /><td align="center"><br /><table role="presentation" border="0" cellspacing="0" cellpadding="0"><br /><tbody><br /><tr><br /><td role="presentation" align="center" valign="middle" bgcolor="#ec881d"><strong><a href="https://us02web.zoom.us/meeting/register/FP37z_DoRgOqwd1FlrfLyw" target="_blank" rel="noopener">Register Today!</a></strong></td><br /></tr><br /></tbody><br /></table><br /></td><br /></tr><br /></tbody><br /></table><br /><p> </p>\n\n</BODY>\n</HTML>

LOCATION:
END:VEVENT

END:VCALENDAR
