BEGIN:VCALENDAR
VERSION:2.0
PRODID:-//hacksw/handcal//NONSGML v1.0//EN
BEGIN:VEVENT
UID:f42e33ab9098a2cf6540fe5a49b127a6
DTSTAMP:20260422T113113Z

DTSTART:20260311T130000
DTEND:20260311T140000
SUMMARY:The Future of Dengue Control: Innovations, Insights, and Impact
DESCRIPTION:The Dengue Academy Masterclass Series, organized and funded by Takeda, consists of three expert-led educational programs and scientific discussion on dengue science and prevention concepts. To foster education and knowledge-sharing about scientific dengue updates, you are cordially invited to join the 2026 Dengue Academy Masterclass Series virtually.\nPart 3: The Future of Dengue Control: Innovations, Insights, and Impact\n\nSmart Surveillance: Digital Tools (e.g. AI) for Early Warning and Outbreak Preparedness in Dengue\nDengue Vaccines Integration: Evaluating Efficacy, Safety, and Real-World Insights\nFacilitated Q&amp;A\n\nRegister here: https://webapp.spotme.com/login/takeda/dengue-academy-masterclass-2026?utm_source=ISNTD%20Newsletter&amp;utm_medium=email&amp;utm_campaign=96ea5eadb5-EMAIL_CAMPAIGN_2018_08_16_09_02_COPY_01&amp;utm_term=0_f4c7c711d5-96ea5eadb5-%5BLIST_EMAIL_ID%5D

X-ALT-DESC;FMTTYPE=text/html:<!DOCTYPE HTML PUBLIC "-//W3C//DTD HTML 3.2//EN">\n<HTML>\n<HEAD>\n<META NAME="Generator" CONTENT="MS Exchange Server version 08.00.0681.000">\n<TITLE></TITLE>\n</HEAD>\n<BODY>\n<!-- Converted from text/rtf format -->\n\n<p>The <strong>Dengue Academy Masterclass Series</strong>, organized and funded by Takeda, consists of three expert-led educational programs and scientific discussion on dengue science and prevention concepts. To foster education and knowledge-sharing about scientific dengue updates, you are cordially invited to join the 2026 Dengue Academy Masterclass Series virtually.</p><br /><p>Part 3: <strong>The Future of Dengue Control: Innovations, Insights, and Impact</strong></p><br /><ul class="ql-list"><br /><li>Smart Surveillance: Digital Tools (e.g. AI) for Early Warning and Outbreak Preparedness in Dengue</li><br /><li>Dengue Vaccines Integration: Evaluating Efficacy, Safety, and Real-World Insights</li><br /><li>Facilitated Q&amp;A</li><br /></ul><br /><p>Register here: https://webapp.spotme.com/login/takeda/dengue-academy-masterclass-2026?utm_source=ISNTD%20Newsletter&amp;utm_medium=email&amp;utm_campaign=96ea5eadb5-EMAIL_CAMPAIGN_2018_08_16_09_02_COPY_01&amp;utm_term=0_f4c7c711d5-96ea5eadb5-%5BLIST_EMAIL_ID%5D</p>\n\n</BODY>\n</HTML>

LOCATION:
END:VEVENT

END:VCALENDAR
