BEGIN:VCALENDAR
VERSION:2.0
PRODID:-//hacksw/handcal//NONSGML v1.0//EN
BEGIN:VEVENT
UID:cff5a75dffc70823d6d70c58d254dd28
DTSTAMP:20260424T084537Z

DTSTART:20260226T140000
DTEND:20260226T153000
SUMMARY:Gavi ZIP Learning Webinar: Integration Approaches in  Humanitarian Immunisation  Programmes
DESCRIPTION:\nJoin the Gavi ZIP Webinar, hosted by CORE Group, entitled “Integration Approaches in Humanitarian Immunisation Programmes”  \n📅 Date: Thursday, February 26, 2026\n🕑 Time:  14:00 – 15:30 UTC\n🌐 Interpretation will be available in English and French.\nPlease click here to register.\nThis webinar will focus on how immunisation services are being integrated with other interventions to ensure children 0–5 years in conflict and crisis-affected areas are fully immunised and better served. Through ZIP, Gavi's Humanitarian Partnerships, civil society organisations are documenting innovative integration models that link immunisation with complementary services.\nDuring the webinar, we’ll hear from speakers from Gavi and the International Rescue Committee (IRC) on the important role integration can play in strengthening immunisation outcomes and meeting the needs of missed communities. ZIP partners in Cameroon and South Sudan will share their experiences of combining nutrition and other services alongside immunisation, illustrating how these strategies can strengthen programming, improve efficiency, and address urgent humanitarian needs.   \n

X-ALT-DESC;FMTTYPE=text/html:<!DOCTYPE HTML PUBLIC "-//W3C//DTD HTML 3.2//EN">\n<HTML>\n<HEAD>\n<META NAME="Generator" CONTENT="MS Exchange Server version 08.00.0681.000">\n<TITLE></TITLE>\n</HEAD>\n<BODY>\n<!-- Converted from text/rtf format -->\n\n<div class="OutlineElement Ltr SCXW69498103 BCX0"><br /><p class="Paragraph SCXW69498103 BCX0"><span class="NormalTextRun SCXW69498103 BCX0">Join the </span><span class="NormalTextRun SCXW69498103 BCX0">Gavi ZIP Webinar, hosted by CORE Group</span><span class="NormalTextRun SCXW69498103 BCX0">, entitled </span><span class="NormalTextRun SCXW69498103 BCX0">“</span><span class="TextRun MacChromeBold SCXW69498103 BCX0" lang="EN-US" data-contrast="none"><span class="NormalTextRun SCXW69498103 BCX0">Integration Approaches in Humanitarian </span><span class="NormalTextRun SCXW69498103 BCX0">Immunisation </span><span class="NormalTextRun SCXW69498103 BCX0">Programmes</span></span><span class="NormalTextRun SCXW69498103 BCX0">”</span> <span class="EOP SCXW69498103 BCX0" data-ccp-props="{"> </span></p><br /><p class="Paragraph SCXW69498103 BCX0"><span class="NormalTextRun SCXW69498103 BCX0">📅</span><span class="NormalTextRun SCXW69498103 BCX0"> </span><span class="NormalTextRun SCXW69498103 BCX0">Date</span><span class="TextRun SCXW69498103 BCX0" lang="EN-US" data-contrast="auto"><span class="NormalTextRun SCXW69498103 BCX0">: Thursday, </span><span class="NormalTextRun SCXW69498103 BCX0">February 26, 2026</span></span></p><br /><p class="Paragraph SCXW69498103 BCX0"><span class="NormalTextRun SCXW69498103 BCX0">🕑</span><span class="NormalTextRun SCXW69498103 BCX0"> </span><span class="NormalTextRun SCXW69498103 BCX0">Time:</span><span class="NormalTextRun SCXW69498103 BCX0"> </span><span class="NormalTextRun SCXW69498103 BCX0"> </span><span class="NormalTextRun SCXW69498103 BCX0">14:00</span><span class="NormalTextRun SCXW69498103 BCX0"> </span><span class="NormalTextRun SCXW69498103 BCX0">–</span><span class="NormalTextRun SCXW69498103 BCX0"> </span><span class="NormalTextRun SCXW69498103 BCX0">15:30</span><span class="NormalTextRun SCXW69498103 BCX0"> </span><span class="NormalTextRun SCXW69498103 BCX0">UTC</span></p><br /><p class="Paragraph SCXW69498103 BCX0"><span class="NormalTextRun SCXW69498103 BCX0">🌐</span><span class="NormalTextRun SCXW69498103 BCX0"> </span><span class="NormalTextRun SCXW69498103 BCX0">Interpretation will be available in English and French.</span></p><br /><p class="Paragraph SCXW69498103 BCX0"><a class="Hyperlink SCXW69498103 BCX0" href="https://us02web.zoom.us/webinar/register/WN_cIi68a9HRaOdtT1xBCDfzA" target="_blank" rel="noreferrer noopener"><span class="NormalTextRun SCXW69498103 BCX0" data-ccp-charstyle="Hyperlink">Please click here to register.</span></a></p><br /><p class="Paragraph SCXW69498103 BCX0"><span class="TextRun SCXW69498103 BCX0" lang="EN-US" data-contrast="auto"><span class="NormalTextRun SCXW69498103 BCX0">This </span><span class="NormalTextRun SCXW69498103 BCX0">webinar</span><span class="NormalTextRun SCXW69498103 BCX0"> </span><span class="NormalTextRun SCXW69498103 BCX0">will focus on </span><span class="NormalTextRun SCXW69498103 BCX0">how </span><span class="NormalTextRun SCXW69498103 BCX0">immunisation</span><span class="NormalTextRun SCXW69498103 BCX0"> services are being integrated with other interventions to ensure children 0–5 years in conflict and crisis-affected areas are fully </span><span class="NormalTextRun SCXW69498103 BCX0">immunised</span><span class="NormalTextRun SCXW69498103 BCX0"> and better served. Through ZIP, Gavi's Humanitarian Partnerships, civil society </span><span class="NormalTextRun SCXW69498103 BCX0">organisations</span><span class="NormalTextRun SCXW69498103 BCX0"> are documenting innovative integration models that link </span><span class="NormalTextRun SCXW69498103 BCX0">immunisation</span><span class="NormalTextRun SCXW69498103 BCX0"> with complementary services.</span></span></p><br /><p class="Paragraph SCXW69498103 BCX0"><span class="TextRun SCXW69498103 BCX0" lang="EN-US" data-contrast="auto"><span class="NormalTextRun SCXW69498103 BCX0">During the </span><span class="NormalTextRun SCXW69498103 BCX0">webinar</span><span class="NormalTextRun SCXW69498103 BCX0">, </span><span class="NormalTextRun SCXW69498103 BCX0">we’ll</span><span class="NormalTextRun SCXW69498103 BCX0"> hear from speakers from Gavi and the International Rescue Committee (IRC) on the </span><span class="NormalTextRun SCXW69498103 BCX0">important role</span><span class="NormalTextRun SCXW69498103 BCX0"> integration can play in strengthening </span><span class="NormalTextRun SCXW69498103 BCX0">immunisation</span><span class="NormalTextRun SCXW69498103 BCX0"> outcomes and meeting the needs of missed communities. ZIP partners in Cameroon and South Sudan will share their experiences of combining nutrition and other services alongside </span><span class="NormalTextRun SCXW69498103 BCX0">immunisation</span><span class="NormalTextRun SCXW69498103 BCX0">, illustrating how these strategies ca</span><span class="NormalTextRun SCXW69498103 BCX0">n </span><span class="NormalTextRun SCXW69498103 BCX0">strengthen </span></span><span class="TextRun SCXW69498103 BCX0" lang="EN-US" data-contrast="auto"><span class="NormalTextRun SCXW69498103 BCX0">programming, improve efficiency, and address urgent humanitarian needs</span><span class="NormalTextRun SCXW69498103 BCX0">.  </span></span><span class="EOP SCXW69498103 BCX0" data-ccp-props="{"> </span></p><br /></div>\n\n</BODY>\n</HTML>

LOCATION:
END:VEVENT

END:VCALENDAR
