BEGIN:VCALENDAR
VERSION:2.0
PRODID:-//hacksw/handcal//NONSGML v1.0//EN
BEGIN:VEVENT
UID:8467a695bd44ca71e9b04feffda24e4a
DTSTAMP:20260422T112120Z

DTSTART:20260225T143000
DTEND:20260225T143000
SUMMARY:Maximizing malaria vaccine visits within routine immunization platforms: Early insights and opportunities
DESCRIPTION:Researchers from Burkina Faso and Mozambique will share learnings on how country-tailored interventions helped increase the uptake of the malaria vaccine.\nSpeakers:\n• Dr. Ali Sie, Centre de Recherche en Santé de Nouna (CRSN), Burkina Faso\n• Daan Velthausz, Director, Maraxis BV, Mozambique Co-moderators:\n• Saira Nawaz, PATH • Eleonora Genovese, Gavi\nFrench and Portuguese interpretation will be available. Register here: https://burness.zoom.us/webinar/register/WN_BcC6U9NCTsC7HHP4ILNfGQ#/registration

X-ALT-DESC;FMTTYPE=text/html:<!DOCTYPE HTML PUBLIC "-//W3C//DTD HTML 3.2//EN">\n<HTML>\n<HEAD>\n<META NAME="Generator" CONTENT="MS Exchange Server version 08.00.0681.000">\n<TITLE></TITLE>\n</HEAD>\n<BODY>\n<!-- Converted from text/rtf format -->\n\n<p>Researchers from Burkina Faso and Mozambique will share learnings on how country-tailored interventions helped increase the uptake of the malaria vaccine.</p><br /><p>Speakers:</p><br /><p>• Dr. Ali Sie, Centre de Recherche en Santé de Nouna (CRSN), Burkina Faso</p><br /><p>• Daan Velthausz, Director, Maraxis BV, Mozambique Co-moderators:</p><br /><p>• Saira Nawaz, PATH • Eleonora Genovese, Gavi</p><br /><p>French and Portuguese interpretation will be available. Register here: <a href="https://burness.zoom.us/webinar/register/WN_BcC6U9NCTsC7HHP4ILNfGQ#/registration" target="_blank" rel="noopener">https://burness.zoom.us/webinar/register/WN_BcC6U9NCTsC7HHP4ILNfGQ#/registration</a></p>\n\n</BODY>\n</HTML>

LOCATION:
END:VEVENT

END:VCALENDAR
