BEGIN:VCALENDAR
VERSION:2.0
PRODID:-//hacksw/handcal//NONSGML v1.0//EN
BEGIN:VEVENT
UID:a851212f8871838e1b68571ebb314eb3
DTSTAMP:20260422T112300Z

DTSTART:20260311T140000
DTEND:20260311T140000
SUMMARY:PtD Webinar: Country-Led Supply Chain Workforce Strengthening
DESCRIPTION:As funding landscapes shift, national stakeholders must take greater ownership of supply chain workforce development. This 90-minute webinar, hosted by the PtD Exchange, explores practical, country-led approaches using the HR4SCM Rapid Diagnostic Tool (RDT). Learn how to assess workforce maturity, interpret dashboards, and prioritise high-impact, low-cost interventions. The 90-minute session includes expert insights, country experiences, and live discussion.\nRegister here: https://us06web.zoom.us/meeting/register/v0JIFBS0TI6NklitOdnHaw#/registration

X-ALT-DESC;FMTTYPE=text/html:<!DOCTYPE HTML PUBLIC "-//W3C//DTD HTML 3.2//EN">\n<HTML>\n<HEAD>\n<META NAME="Generator" CONTENT="MS Exchange Server version 08.00.0681.000">\n<TITLE></TITLE>\n</HEAD>\n<BODY>\n<!-- Converted from text/rtf format -->\n\n<p>As funding landscapes shift, national stakeholders must take greater ownership of supply chain workforce development. This 90-minute webinar, hosted by the PtD Exchange, explores practical, country-led approaches using the HR4SCM Rapid Diagnostic Tool (RDT). Learn how to assess workforce maturity, interpret dashboards, and prioritise high-impact, low-cost interventions. The 90-minute session includes expert insights, country experiences, and live discussion.</p><br /><p>Register here: <a href="https://us06web.zoom.us/meeting/register/v0JIFBS0TI6NklitOdnHaw#/registration">https://us06web.zoom.us/meeting/register/v0JIFBS0TI6NklitOdnHaw#/registration</a></p>\n\n</BODY>\n</HTML>

LOCATION:
END:VEVENT

END:VCALENDAR
