BEGIN:VCALENDAR
VERSION:2.0
PRODID:-//hacksw/handcal//NONSGML v1.0//EN
BEGIN:VEVENT
UID:a3c4d118f37e123f45a19949daa7bde1
DTSTAMP:20260422T111228Z

DTSTART:20260304T160000
DTEND:20260304T173000
SUMMARY:Learning agenda on hepatitis B birth dose vaccine delivery in Africa: Insights and recommendations 
DESCRIPTION:Learning agenda on hepatitis B birth dose vaccine delivery in Africa \nInsights and recommendations to improve timely administration\nWednesday 4 March at 16:00–17:30 EAT | 14:00–15:30 CET | 8:00–9:30 EST\nChronic hepatitis B affects 254 million people globally, with the highest burden in low‑ and middle‑income countries, especially in the WHO African Region. While WHO recommends giving the hepatitis B birth‑dose vaccine within 24 hours to prevent vertical transmission, many countries struggle to achieve timely coverage, particularly where a large share of births occur at home. \nIn 2025, Gavi partnered with Unitaid and PATH to launch the Hepatitis B Birth Dose Learning Agenda. In this webinar, we will share insights from a mixed‑methods assessment in Ethiopia, The Gambia, Nigeria, and Uganda to evaluate the feasibility, acceptability, cost, and impact of strategies to improve timely birth‑dose vaccination for infants born in both facility and community settings. \nPlease join us to explore key findings from this work and hear insights from a diverse panel of country experts committed to eliminating vertical transmission of preventable diseases. Participants will have an opportunity to ask questions during the live Q&amp;A.\nPlease register in advance: https://tinyurl.com/hepb-bd

X-ALT-DESC;FMTTYPE=text/html:<!DOCTYPE HTML PUBLIC "-//W3C//DTD HTML 3.2//EN">\n<HTML>\n<HEAD>\n<META NAME="Generator" CONTENT="MS Exchange Server version 08.00.0681.000">\n<TITLE></TITLE>\n</HEAD>\n<BODY>\n<!-- Converted from text/rtf format -->\n\n<p class="MsoNormal" style="margin-bottom: 3.0pt;"><strong><span style="font-size: 11.0pt; font-family: 'Arial',sans-serif;">Learning agenda on hepatitis B birth dose vaccine delivery in Africa </span></strong></p><br /><p class="MsoNormal"><strong><em><span style="font-size: 11.0pt; font-family: 'Arial',sans-serif;">Insights and recommendations to improve timely administration</span></em></strong></p><br /><p class="MsoNormal"><strong><span style="font-size: 10.0pt; font-family: 'Arial',sans-serif;">Wednesday 4 March at 16:00–17:30 EAT | 14:00–15:30 CET | 8:00–9:30 EST</span></strong></p><br /><p class="MsoNormal"><span style="font-size: 10.0pt; font-family: 'Arial',sans-serif;">Chronic hepatitis B affects 254 million people globally, with the highest burden in low‑ and middle‑income countries, especially in the WHO African Region. While WHO recommends giving the hepatitis B birth‑dose vaccine within 24 hours to prevent vertical transmission, many countries struggle to achieve timely coverage, particularly where a large share of births occur at home. </span></p><br /><p class="MsoNormal"><span style="font-size: 10.0pt; font-family: 'Arial',sans-serif;">In 2025, Gavi partnered with Unitaid and PATH to launch the Hepatitis B Birth Dose Learning Agenda. In this webinar, we will share insights from a mixed‑methods assessment in Ethiopia, The Gambia, Nigeria, and Uganda to evaluate the feasibility, acceptability, cost, and impact of strategies to improve timely birth‑dose vaccination for infants born in both facility and community settings. </span></p><br /><p class="MsoNormal"><span style="font-size: 10.0pt; font-family: 'Arial',sans-serif;">Please join us to explore key findings from this work and hear insights from a diverse panel of country experts committed to eliminating vertical transmission of preventable diseases. Participants will have an opportunity to ask questions during the live Q&amp;A.</span></p><br /><p><span style="font-size: 10.0pt; font-family: 'Arial',sans-serif; mso-fareast-font-family: Aptos; mso-fareast-theme-font: minor-latin; mso-ligatures: standardcontextual; mso-ansi-language: EN-US; mso-fareast-language: EN-US; mso-bidi-language: AR-SA;"><strong>Please register in advance: </strong><a href="https://tinyurl.com/hepb-bd">https://tinyurl.com/hepb-bd</a></span></p>\n\n</BODY>\n</HTML>

LOCATION:
END:VEVENT

END:VCALENDAR
