BEGIN:VCALENDAR
VERSION:2.0
PRODID:-//hacksw/handcal//NONSGML v1.0//EN
BEGIN:VEVENT
UID:4d8fc36471f1eeaa39a914a86b647545
DTSTAMP:20260424T084154Z

DTSTART:20260324T110000
DTEND:20260324T113000
SUMMARY:UNICEF VPPN onboarding webinar – What can you learn from the Vaccine Procurement Practitioners Network (VPPN)?
DESCRIPTION:Link to join the webinar on 24 March\nDear TechNet Colleagues,\nWe would be glad to welcome you to our next VPPN onboarding webinar, that will take place on Tuesday, 24 March, at 11am GMT+1.\nJoin us on 24 March to meet and chat with peers from around the world and us, the team behind the VPPN, as well as ask questions and discuss any challenge your country is facing in terms of vaccine procurement. This 30-minute event will also be an opportunity for you to better understand what you can learn from the VPPN and find out how it can help you, where to find resources, how to engage with peers and what you can expect from us.\nThe webinar will be held in English and take place on Zoom. Click on the following link to join the event on Tuesday, 24 March 2026, from 11am to 11.30am GMT+1:\nhttps://unicef.zoom.us/j/98962671544 \nYou will find below all relevant details on this webinar.\nAnd feel free to join the VPPN by clicking here and selcting VPPN at the bottom of the page, should you be interested and a vaccine procurement professional.\nWe are looking forward to getting to know you at our upcoming onboarding webinar. And in the meantime, you can always reach out to me, through the platform or by email at dschuwey@unicef.org, in case of questions.\nKind regards,\nDyuti\n*****\nOnboarding webinar: What can you learn from the VPPN?\nLink to join the webinar on 24 March\nhttps://unicef.zoom.us/j/98962671544 \nDate &amp; Time\nTuesday, 24 March 2026, from 11am to 11.30am GMT+1\nObjectives\n•    Present the VPPN, how it works and where to find useful resources\n•    Introduce members and engage with peers\n•    Answer questions on the VPPN and on vaccine procurement\nAgenda\n11:00am GMT+2    Welcome\n11:02am GMT+2    VPPN presentation\n11:17am GMT+2    Participants introduction\n11:20am GMT+2    Questions &amp; Answers\n11:30am GMT+2    End &amp; Further discussion on the VPPN

X-ALT-DESC;FMTTYPE=text/html:<!DOCTYPE HTML PUBLIC "-//W3C//DTD HTML 3.2//EN">\n<HTML>\n<HEAD>\n<META NAME="Generator" CONTENT="MS Exchange Server version 08.00.0681.000">\n<TITLE></TITLE>\n</HEAD>\n<BODY>\n<!-- Converted from text/rtf format -->\n\n<p><a href="https://unicef.zoom.us/j/98962671544"><strong>Link to join the webinar on 24 March</strong></a></p><br /><p>Dear TechNet Colleagues,</p><br /><p>We would be glad to welcome you to our <strong>next VPPN onboarding webinar</strong>, that will take place on <strong>Tuesday, 24 March, at 11am GMT+1</strong>.</p><br /><p>Join us on 24 March to <strong>meet and chat with peers from around the world and us, the team behind the VPPN, as well as ask questions and discuss any challenge</strong> your country is facing in terms of vaccine procurement. This 30-minute event will also be an opportunity for you to better <strong>understand what you can learn from the VPPN and find out how it can help you</strong>, where to find resources, how to engage with peers and what you can expect from us.</p><br /><p>The webinar will be held in <strong>English </strong>and take place <strong>on Zoom</strong>. Click on the following <strong>link </strong>to join the event on Tuesday, 24 March 2026, from 11am to 11.30am GMT+1:<br /><a href="https://unicef.zoom.us/j/98962671544">https://unicef.zoom.us/j/98962671544</a> </p><br /><p>You will find below all relevant details on this webinar.</p><br /><p>And feel free to join the VPPN by clicking here and selcting VPPN at the bottom of the page, should you be interested and a vaccine procurement professional.</p><br /><p>We are looking forward to getting to know you at our upcoming onboarding webinar. And in the meantime, you can always reach out to me, through the platform or by email at dschuwey@unicef.org, in case of questions.</p><br /><p>Kind regards,</p><br /><p>Dyuti</p><br /><p>*****</p><br /><p><strong>Onboarding webinar: What can you learn from the VPPN?</strong></p><br /><p><strong>Link to join the webinar on 24 March</strong><br /><a href="https://unicef.zoom.us/j/98962671544">https://unicef.zoom.us/j/98962671544</a> </p><br /><p><strong>Date &amp; Time</strong><br />Tuesday, 24 March 2026, from 11am to 11.30am GMT+1</p><br /><p><strong>Objectives</strong><br />•    Present the VPPN, how it works and where to find useful resources<br />•    Introduce members and engage with peers<br />•    Answer questions on the VPPN and on vaccine procurement</p><br /><p><strong>Agenda</strong><br />11:00am GMT+2    Welcome<br />11:02am GMT+2    VPPN presentation<br />11:17am GMT+2    Participants introduction<br />11:20am GMT+2    Questions &amp; Answers<br />11:30am GMT+2    End &amp; Further discussion on the VPPN</p>\n\n</BODY>\n</HTML>

LOCATION:
END:VEVENT

END:VCALENDAR
