BEGIN:VCALENDAR
VERSION:2.0
PRODID:-//hacksw/handcal//NONSGML v1.0//EN
BEGIN:VEVENT
UID:cffe7b2c53c76ab59d6481565269b980
DTSTAMP:20260422T112810Z

DTSTART:20260311T170000
DTEND:20260311T180000
SUMMARY:Breaking the Cold Chain: The Future of Thermostable Vaccines
DESCRIPTION:Breaking the Cold Chain: The Future of Thermostable Vaccines\nSPEAKER: Indresh Srivastava, Vice President, Vaccine Development Novavax\nhttps://zoom.us/j/99147136227\n 

X-ALT-DESC;FMTTYPE=text/html:<!DOCTYPE HTML PUBLIC "-//W3C//DTD HTML 3.2//EN">\n<HTML>\n<HEAD>\n<META NAME="Generator" CONTENT="MS Exchange Server version 08.00.0681.000">\n<TITLE></TITLE>\n</HEAD>\n<BODY>\n<!-- Converted from text/rtf format -->\n\n<p class="MsoPlainText">Breaking the Cold Chain: The Future of Thermostable Vaccines</p><br /><p class="MsoPlainText">SPEAKER: Indresh Srivastava, Vice President, Vaccine Development Novavax</p><br /><p class="MsoPlainText"><a href="https://zoom.us/j/99147136227">https://zoom.us/j/99147136227</a></p><br /><p class="MsoPlainText"> </p>\n\n</BODY>\n</HTML>

LOCATION:
END:VEVENT

END:VCALENDAR
