BEGIN:VCALENDAR
VERSION:2.0
PRODID:-//hacksw/handcal//NONSGML v1.0//EN
BEGIN:VEVENT
UID:ad9ebfe2085c04f87099211fac3ac3f1
DTSTAMP:20260422T111804Z

DTSTART:20260326T090000
DTEND:20260326T090000
SUMMARY:[BoostHER Dialogue Series] Gender-Responsive Immunization in Action: Showcase of Useful Gender Equity Tools
DESCRIPTION:\n\n\n\n\n\n\n\n\n\n\n \n\n\n\n\n\n\n\n\n\nWomen across the globe are leading immunization programs, shaping policy, and driving community impact, yet their experiences, challenges, and leadership pathways are too often under-recognized.\nIn honor of International Women's Month, the Sabin Vaccine Institute’s Boost Community is pleased to invite you to the second session of the BoostHER Special Dialogue Series, a three-part global virtual dialogue spotlighting women’s leadership in immunization and advancing gender-responsive practice across the sector.\n\n\n\n\n\n\n\n\n\n\n\n\nSession 2: Gender-Responsive Immunization in Action: Showcase of Useful Gender Equity Tools\n\n\n\n\n\n\n\n\n\n\n\n\n📅 Date: March 26, 2026 | 1:00 PM GMT (find your local time)\n⏱ Duration: 75 minutes\n🌍 Format: Virtual (Zoom)\nThis session will convene immunization professionals from around the world for an interactive dialogue that:\n\nIntroduce specific gender-responsive planning tools and how they have been adapted to local contexts\nGenerate discussion around these tools and others, and how participants have utilized them in their own work\nSolicit feedback on what new or different tools could be helpful in ensuring equity in immunization programming\n\nParticipants will engage in facilitated small-group discussions, share useful tools and resources used in the field, and contribute to a session brief that will inform future Boost programming and advocacy.\n\n\n\n\n\n\n\n\n\n\n\n\nWho Should Attend?\n\n\n\n\n\n\n\n\n\n\n\n\nThis session is open to women and men working across immunization, including:\n\nNational and subnational EPI managers\nProgram implementers and health workers\nGender, equity, and social inclusion specialists\nResearchers, advocates, and partners committed to gender-responsive immunization\n\n\n\n\n\n\n\n\n\n\n\n\n\nWhy Join?\n\n\n\n\n\n\n\n\n\n\n\n\n✔ Connect with a global community of immunization professionals\n✔ Share experiences and insights in a trusted, interactive space\n✔ Contribute to shaping practical, gender-responsive solutions\n✔ Be part of a time-bound series leading to concrete outputs and continued engagement\nWe look forward to learning with you and amplifying women’s leadership in immunization!\nRegister Today! Meeting Registration - Zoom\n\n\n\n\n\n\n\n\n\n\n\n\n\n \n\n\n\n\n\n\n\n\n\n\n\n\n\n\n\n 

X-ALT-DESC;FMTTYPE=text/html:<!DOCTYPE HTML PUBLIC "-//W3C//DTD HTML 3.2//EN">\n<HTML>\n<HEAD>\n<META NAME="Generator" CONTENT="MS Exchange Server version 08.00.0681.000">\n<TITLE></TITLE>\n</HEAD>\n<BODY>\n<!-- Converted from text/rtf format -->\n\n<table class="hb-section" role="presentation" border="0" width="600" cellspacing="0" cellpadding="0" align="center"><br /><tbody><br /><tr><br /><td class="hb-column-responsive" width="600"><br /><table role="presentation" border="0" cellspacing="0" cellpadding="0"><br /><tbody><br /><tr><br /><td><br /><table role="presentation" border="0" cellspacing="0" cellpadding="0"><br /><tbody><br /><tr><br /><td align="center"> </td><br /></tr><br /></tbody><br /></table><br /><table role="presentation" border="0" cellspacing="0" cellpadding="0"><br /><tbody><br /><tr><br /><td><br /><div dir="auto" lang="und" role="article" aria-roledescription="email"><br /><div><br /><p>Women across the globe are leading immunization programs, shaping policy, and driving community impact, yet their experiences, challenges, and leadership pathways are too often under-recognized.</p><br /><p>In honor of International Women's Month, the <strong>Sabin Vaccine Institute’s Boost Community </strong>is pleased to invite you to the second session of the<strong> BoostHER Special Dialogue Series</strong>, a three-part global virtual dialogue spotlighting women’s leadership in immunization and advancing gender-responsive practice across the sector.</p><br /></div><br /></div><br /></td><br /></tr><br /></tbody><br /></table><br /><table role="presentation" border="0" cellspacing="0" cellpadding="0"><br /><tbody><br /><tr><br /><td><br /><div dir="auto" lang="und" role="article" aria-roledescription="email"><br /><div><br /><p><strong>Session 2:</strong><strong> </strong><strong>Gender-Responsive Immunization in Action: Showcase of Useful Gender Equity Tools</strong></p><br /></div><br /></div><br /></td><br /></tr><br /></tbody><br /></table><br /><table role="presentation" border="0" cellspacing="0" cellpadding="0"><br /><tbody><br /><tr><br /><td><br /><div dir="auto" lang="und" role="article" aria-roledescription="email"><br /><div><br /><p><strong>📅 Date: March 26, 2026 | 1:00 PM GMT (</strong><a title="" href="https://time.is/compare/100PM_26_Mar_2026_in_GMT" target="_blank" rel="noopener"><strong>find your local time</strong></a><strong>)</strong></p><br /><p><strong>⏱ Duration: 75 minutes</strong></p><br /><p><strong>🌍 Format: Virtual (Zoom)</strong></p><br /><p>This session will convene immunization professionals from around the world for an interactive dialogue that:</p><br /><ul><br /><li>Introduce specific gender-responsive planning tools and how they have been adapted to local contexts</li><br /><li>Generate discussion around these tools and others, and how participants have utilized them in their own work</li><br /><li>Solicit feedback on what new or different tools could be helpful in ensuring equity in immunization programming</li><br /></ul><br /><p>Participants will engage in <strong>facilitated small-group discussions</strong>, share useful tools and resources used in the field, and contribute to a session brief that will inform future Boost programming and advocacy.</p><br /></div><br /></div><br /></td><br /></tr><br /></tbody><br /></table><br /><table role="presentation" border="0" cellspacing="0" cellpadding="0"><br /><tbody><br /><tr><br /><td><br /><div dir="auto" lang="und" role="article" aria-roledescription="email"><br /><div><br /><p><strong>Who Should Attend?</strong></p><br /></div><br /></div><br /></td><br /></tr><br /></tbody><br /></table><br /><table role="presentation" border="0" cellspacing="0" cellpadding="0"><br /><tbody><br /><tr><br /><td><br /><div dir="auto" lang="und" role="article" aria-roledescription="email"><br /><div><br /><p>This session is open to<strong> women and men</strong> working across immunization, including:</p><br /><ul><br /><li>National and subnational EPI managers</li><br /><li>Program implementers and health workers</li><br /><li>Gender, equity, and social inclusion specialists</li><br /><li>Researchers, advocates, and partners committed to gender-responsive immunization</li><br /></ul><br /></div><br /></div><br /></td><br /></tr><br /></tbody><br /></table><br /><table role="presentation" border="0" cellspacing="0" cellpadding="0"><br /><tbody><br /><tr><br /><td><br /><div dir="auto" lang="und" role="article" aria-roledescription="email"><br /><div><br /><p><strong>Why Join?</strong></p><br /></div><br /></div><br /></td><br /></tr><br /></tbody><br /></table><br /><table style="width: 100.111%; height: 242.281px;" role="presentation" border="0" cellspacing="0" cellpadding="0"><br /><tbody><br /><tr style="height: 242.281px;"><br /><td style="width: 99.7783%;"><br /><div dir="auto" lang="und" role="article" aria-roledescription="email"><br /><div><br /><p>✔ Connect with a global community of immunization professionals</p><br /><p>✔ Share experiences and insights in a trusted, interactive space</p><br /><p>✔ Contribute to shaping practical, gender-responsive solutions</p><br /><p>✔ Be part of a time-bound series leading to concrete outputs and continued engagement</p><br /><p><strong><em>We look forward to learning with you and amplifying women’s leadership in immunization!</em></strong></p><br /><p><strong><em>Register Today! <a href="https://us02web.zoom.us/meeting/register/NCwev0BVTIynScyjmbhGdQ#/registration">Meeting Registration - Zoom</a></em></strong></p><br /></div><br /></div><br /></td><br /></tr><br /></tbody><br /></table><br /><table role="presentation" border="0" cellspacing="0" cellpadding="0"><br /><tbody><br /><tr><br /><td align="center"><br /><table role="presentation" border="0" cellspacing="0" cellpadding="0"><br /><tbody><br /><tr><br /><td style="text-align: center;" role="presentation" align="center" valign="middle" bgcolor="#196bac"> </td><br /></tr><br /></tbody><br /></table><br /></td><br /></tr><br /></tbody><br /></table><br /></td><br /></tr><br /></tbody><br /></table><br /></td><br /></tr><br /></tbody><br /></table><br /><p> </p>\n\n</BODY>\n</HTML>

LOCATION:
END:VEVENT

END:VCALENDAR
